BEGIN:VCALENDAR
VERSION:2.0
PRODID:-//Sustainable Management of Marine Resources - ECPv6.15.20//NONSGML v1.0//EN
CALSCALE:GREGORIAN
METHOD:PUBLISH
X-ORIGINAL-URL:https://www.smmr.org.uk
X-WR-CALDESC:Events for Sustainable Management of Marine Resources
REFRESH-INTERVAL;VALUE=DURATION:PT1H
X-Robots-Tag:noindex
X-PUBLISHED-TTL:PT1H
BEGIN:VTIMEZONE
TZID:Europe/London
BEGIN:DAYLIGHT
TZOFFSETFROM:+0000
TZOFFSETTO:+0100
TZNAME:BST
DTSTART:20230326T010000
END:DAYLIGHT
BEGIN:STANDARD
TZOFFSETFROM:+0100
TZOFFSETTO:+0000
TZNAME:GMT
DTSTART:20231029T010000
END:STANDARD
BEGIN:DAYLIGHT
TZOFFSETFROM:+0000
TZOFFSETTO:+0100
TZNAME:BST
DTSTART:20240331T010000
END:DAYLIGHT
BEGIN:STANDARD
TZOFFSETFROM:+0100
TZOFFSETTO:+0000
TZNAME:GMT
DTSTART:20241027T010000
END:STANDARD
BEGIN:DAYLIGHT
TZOFFSETFROM:+0000
TZOFFSETTO:+0100
TZNAME:BST
DTSTART:20250330T010000
END:DAYLIGHT
BEGIN:STANDARD
TZOFFSETFROM:+0100
TZOFFSETTO:+0000
TZNAME:GMT
DTSTART:20251026T010000
END:STANDARD
END:VTIMEZONE
BEGIN:VEVENT
DTSTART;TZID=Europe/London:20241120T130000
DTEND;TZID=Europe/London:20241120T140000
DTSTAMP:20260421T120134
CREATED:20241016T143714Z
LAST-MODIFIED:20241016T143714Z
UID:4191-1732107600-1732111200@www.smmr.org.uk
SUMMARY:SMMR-Net Webinar: "10 Golden Rules of Negotiation"
DESCRIPTION:The Sustainable Management of UK Marine Resources (SMMR) Network is excited to host another free Lunchtime Webinar! This month Horace McDonald from Scotwork\, a leading negotiation skills development and consultancy\, will give an insight into: \n__________ \n“The 10 Golden Rules of Negotiation”\nRule 1: Negotiation is not about winning the argument\, it is about leverage and skill. \nDiscussing a job offer\, asking for a raise\, making the case for funding or arguing for the best price at the local flea market – negotiations are a part of everyday life. By acquiring a set of negotiation skills\, we are able to improve all areas of life\, professional and personal\, thus increasing the chances of reaching the outcomes we desire. \nWith experience in the world of consultancy since 1975 Scotwork developed 10 Golden Rules of Negotiation\, valuable advice and coaching for practical methods and ready-to-use skills. Scotwork’s guide supports the development of expert negotiation ability\, boosting conflict resolution competencies. It also helps in defining prioritised objectives\, taking initiative and developing a clear positioning statement. \nRegister Here!\n 
URL:https://www.smmr.org.uk/event/smmr-net-webinar-golden-rules-of-negotiation/
CATEGORIES:SMMR-Net Webinars
END:VEVENT
BEGIN:VEVENT
DTSTART;TZID=Europe/London:20241121T130000
DTEND;TZID=Europe/London:20241121T140000
DTSTAMP:20260421T120134
CREATED:20241024T100600Z
LAST-MODIFIED:20241024T100809Z
UID:4211-1732194000-1732197600@www.smmr.org.uk
SUMMARY:Ocean Partnerships Speed Networking "From Physics to Phytoplankton: A Multidisciplinary Voyage in Marine Science"
DESCRIPTION:Join the Ocean Partnerships Network for another free online Speed Networking event over lunchtime! After a 10 minute introduction to this month’s theme\, the Speed Networking begins and you will be paired up with different people for 7 minutes at a time over the course of the hour.\nA fantastic way to meet people outside your usual network! \nThis month’s theme: “From Physics to Phytoplankton: A Multidisciplinary Voyage in Marine Science” \n \nSpeaker: Dr Russell Arnott\, PGCE (Incredible Oceans CIC) \nAn increasing number of marine researchers are adopting a multidisciplinary approach as more and more people realise that in order to properly understand ocean systems\, we need to break out of our silos. Dr Russell Arnott will share his unique journey and experience with being on the periphery of two worlds: ocean physics and plankton ecology.\nThis informal talk will explore the challenges and triumphs of bridging scientific disciplines\, offering insights and sparking discussions on the interdisciplinary nature of modern marine science. Perfect for anyone navigating multiple fields or just curious about the interconnectedness of our ocean. \nRussell Arnott is a presenter\, educational director and founder of Incredible Oceans CIC. He holds a degree and a Masters in Oceanography from the University of Southampton and completed his PhD in Phytoplankton Dynamics at the University of Bath. \n  \nRegister Here!\n  \nOur aim is to connect people and foster collaborations\, worldwide. Ocean Partnerships recognises the need for practitioners from different disciplines to interact\, exchange experiences and ideas. Based on key marine related themes\, our events are designed to provide opportunities for people from the sciences\, arts\, policy\, private and public sectors to discuss topics of interest\, network and just have fun! Register for our Newsletter to stay up-to-date! \n 
URL:https://www.smmr.org.uk/event/ocean-partnerships-speed-networking-from-physics-to-phytoplankton-a-multidisciplinary-voyage/
CATEGORIES:Ocean Partnerships
END:VEVENT
END:VCALENDAR