BEGIN:VCALENDAR
VERSION:2.0
PRODID:-//Sustainable Management of Marine Resources - ECPv6.15.20//NONSGML v1.0//EN
CALSCALE:GREGORIAN
METHOD:PUBLISH
X-ORIGINAL-URL:https://www.smmr.org.uk
X-WR-CALDESC:Events for Sustainable Management of Marine Resources
REFRESH-INTERVAL;VALUE=DURATION:PT1H
X-Robots-Tag:noindex
X-PUBLISHED-TTL:PT1H
BEGIN:VTIMEZONE
TZID:Europe/London
BEGIN:DAYLIGHT
TZOFFSETFROM:+0000
TZOFFSETTO:+0100
TZNAME:BST
DTSTART:20230326T010000
END:DAYLIGHT
BEGIN:STANDARD
TZOFFSETFROM:+0100
TZOFFSETTO:+0000
TZNAME:GMT
DTSTART:20231029T010000
END:STANDARD
BEGIN:DAYLIGHT
TZOFFSETFROM:+0000
TZOFFSETTO:+0100
TZNAME:BST
DTSTART:20240331T010000
END:DAYLIGHT
BEGIN:STANDARD
TZOFFSETFROM:+0100
TZOFFSETTO:+0000
TZNAME:GMT
DTSTART:20241027T010000
END:STANDARD
BEGIN:DAYLIGHT
TZOFFSETFROM:+0000
TZOFFSETTO:+0100
TZNAME:BST
DTSTART:20250330T010000
END:DAYLIGHT
BEGIN:STANDARD
TZOFFSETFROM:+0100
TZOFFSETTO:+0000
TZNAME:GMT
DTSTART:20251026T010000
END:STANDARD
END:VTIMEZONE
BEGIN:VEVENT
DTSTART;TZID=Europe/London:20240709T130000
DTEND;TZID=Europe/London:20240709T140000
DTSTAMP:20260421T172425
CREATED:20240618T150020Z
LAST-MODIFIED:20240618T150133Z
UID:4060-1720530000-1720533600@www.smmr.org.uk
SUMMARY:Ocean Partnerships Speed Networking "Message in a Bottle: A Science-Communication approach to Audience Engagement"
DESCRIPTION:Join the Ocean Partnerships Network for another free online Speed Networking event over lunchtime! After a 10 minute introduction to this month’s theme\, the Speed Networking begins and you will be paired up with different people for 7 minutes at a time over the course of the hour. A fantastic way to meet people outside your usual network! \nThis month’s theme: \n_________\n \n“Message in a bottle: A Sci-Comm approach to Audience Engagement”\nPhilip Bell-Young (MASTS Communications & Outreach Coordinator) \n \nEffective science communication is crucial\, but it can be challenging to master. From simplifying complex concepts to reaching the right audience\, there are many hurdles to overcome. In this short talk\, Phil will offer valuable insights and practical strategies to enhance your communication skills. Whether you’re a seasoned science communicator or just starting out\, this session is a chance to share best practices and learn from each other. Join us and discover how to make your scientific message clear\, engaging\, and impactful. After all\, there’s plenty of room for everyone on this journey. \nPhil Bell-Young is a professional science communicator working at MASTS\, committed to forging dynamic communication pathways between researchers and people from policy\, industry and other sectors. \n  \nInterested? Register Here!\n  \nOur aim is to connect people and foster collaborations\, worldwide. Ocean Partnerships recognises the need for practitioners from different disciplines to interact\, exchange experiences and ideas. Based on key marine related themes\, our events are designed to provide opportunities for people from the sciences\, arts\, policy\, private and public sectors to discuss topics of interest\, network and just have fun! Register for our Newsletter to stay up-to-date! \n 
URL:https://www.smmr.org.uk/event/ocean-partnerships-speed-networking-message-in-a-bottle/
CATEGORIES:Ocean Partnerships
END:VEVENT
BEGIN:VEVENT
DTSTART;TZID=Europe/London:20240724T130000
DTEND;TZID=Europe/London:20240724T140000
DTSTAMP:20260421T172425
CREATED:20240604T112820Z
LAST-MODIFIED:20240725T093342Z
UID:4038-1721826000-1721829600@www.smmr.org.uk
SUMMARY:SMMR-Net Webinar: "Wading through the morass"
DESCRIPTION:The Sustainable Management of UK Marine Resources (SMMR) Network is excited to host another free Lunchtime Webinar! This month Professor Mike Elliott\, Emeritus Professor at the University of Hull\, will give an insight into: \n__________ \n“Wading through the morass” – Managing Marine Resources Sustainably\nDefining priorities for science and management for the sustainable use of marine resources\nThis brief overview will use information from recent publications and from ongoing projects to indicate the direction of research and advice in both natural and social marine sciences. It will reflect on the need for multidisciplinary research and show the way in which systems analysis can be used to tackle marine problems and allow the wise and sustainable use of marine areas. It will present ideas on footprints of activities\, pressures and effects on the natural and societal systems and also explain management response-footprints. This will encompass monitoring and assessment developments\, including cumulative effects\, maritime spatial planning and other conservation designations\, socio-ecological systems\, the assimilative and carrying capacities of seas\, and the valuation of biodiversity in ecological and socio-economic terms. It will also question how we know when marine management has succeeded. In this it will raise discussion related to the breadth of the SMMR and wider research activities. \n  \nWatch a Recording of the session on YouTube\n  \nMike is the Director of International Estuarine & Coastal Specialists (IECS) Ltd and also the Emeritus Professor of Estuarine and Coastal Sciences at the University of Hull\, UK. His wide teaching\, research\, advisory and consultancy interests include estuarine and marine ecology\, policy\, governance and management. Mike has published widely\, co-authoring/co-editing 21 books/proceedings and >350 scientific publications. He has advised on many environmental matters for academia\, industry\, government and statutory bodies worldwide and is a member of many national and international committees linking marine science to policy. Mike is a past-President of the international Estuarine & Coastal Sciences Association (ECSA) and is now Vice-Chair of Future Earth Coasts and a Co-Editor-in-Chief of the international journal Estuarine\, Coastal & Shelf Science; he currently is or has had Adjunct Professor and Research positions at several universities worldwide. \n  \n  \n 
URL:https://www.smmr.org.uk/event/smmr-net-webinar-wading-through-the-morass/
CATEGORIES:SMMR-Net Webinars
END:VEVENT
END:VCALENDAR