BEGIN:VCALENDAR
VERSION:2.0
PRODID:-//Sustainable Management of Marine Resources - ECPv6.15.20//NONSGML v1.0//EN
CALSCALE:GREGORIAN
METHOD:PUBLISH
X-WR-CALNAME:Sustainable Management of Marine Resources
X-ORIGINAL-URL:https://www.smmr.org.uk
X-WR-CALDESC:Events for Sustainable Management of Marine Resources
REFRESH-INTERVAL;VALUE=DURATION:PT1H
X-Robots-Tag:noindex
X-PUBLISHED-TTL:PT1H
BEGIN:VTIMEZONE
TZID:Europe/London
BEGIN:DAYLIGHT
TZOFFSETFROM:+0000
TZOFFSETTO:+0100
TZNAME:BST
DTSTART:20230326T010000
END:DAYLIGHT
BEGIN:STANDARD
TZOFFSETFROM:+0100
TZOFFSETTO:+0000
TZNAME:GMT
DTSTART:20231029T010000
END:STANDARD
BEGIN:DAYLIGHT
TZOFFSETFROM:+0000
TZOFFSETTO:+0100
TZNAME:BST
DTSTART:20240331T010000
END:DAYLIGHT
BEGIN:STANDARD
TZOFFSETFROM:+0100
TZOFFSETTO:+0000
TZNAME:GMT
DTSTART:20241027T010000
END:STANDARD
BEGIN:DAYLIGHT
TZOFFSETFROM:+0000
TZOFFSETTO:+0100
TZNAME:BST
DTSTART:20250330T010000
END:DAYLIGHT
BEGIN:STANDARD
TZOFFSETFROM:+0100
TZOFFSETTO:+0000
TZNAME:GMT
DTSTART:20251026T010000
END:STANDARD
END:VTIMEZONE
BEGIN:VEVENT
DTSTART;TZID=Europe/London:20240306T130000
DTEND;TZID=Europe/London:20240306T140000
DTSTAMP:20260421T225240
CREATED:20231213T145953Z
LAST-MODIFIED:20240307T120527Z
UID:3727-1709730000-1709733600@www.smmr.org.uk
SUMMARY:SMMR-Net Webinar: "Interdisciplinarity in Coastal Research"
DESCRIPTION:Recording available on the SMMR YouTube Channel!\n  \nThe Sustainable Management of UK Marine Resources (SMMR) Network is excited to host another free Lunchtime Webinar! This month one of the UKRI-funded SMMR projects is taking the floor: \n________ \nInterdisciplinarity in coastal research: reflections and insights from early career researchers\nIn this session early career researchers from the “Co-Benefit Solutions for Resilient Coasts” (Co-Opt) project will reflect on their individual and collective experience navigating interdisciplinary research. They have various backgrounds and are trained in disciplines spanning from social to environmental sciences. They will discuss the barriers and synergies encountered across the case studies of the project. \nCo-Opt early career researchers are: Dr Elina Apine (University of St Andrews)\, Dr Amani Becker (National Oceanography Centre)\, Dr Sara Kaffashi (Cranfield University)\, Dr Constantinos Matsoukis (National Oceanography Centre)\, Dr Marta Meschini (University of Liverpool) and Dr Marta Payo Payo (National Oceanography Centre). \nFor more information on Co-Opt please visit their Website here. \n\n 
URL:https://www.smmr.org.uk/event/smmr-net-webinar-interdisciplinarity-in-coastal-research/
CATEGORIES:SMMR-Net Webinars
END:VEVENT
END:VCALENDAR