BEGIN:VCALENDAR
VERSION:2.0
PRODID:-//Sustainable Management of Marine Resources - ECPv6.15.20//NONSGML v1.0//EN
CALSCALE:GREGORIAN
METHOD:PUBLISH
X-ORIGINAL-URL:https://www.smmr.org.uk
X-WR-CALDESC:Events for Sustainable Management of Marine Resources
REFRESH-INTERVAL;VALUE=DURATION:PT1H
X-Robots-Tag:noindex
X-PUBLISHED-TTL:PT1H
BEGIN:VTIMEZONE
TZID:Europe/London
BEGIN:DAYLIGHT
TZOFFSETFROM:+0000
TZOFFSETTO:+0100
TZNAME:BST
DTSTART:20220327T010000
END:DAYLIGHT
BEGIN:STANDARD
TZOFFSETFROM:+0100
TZOFFSETTO:+0000
TZNAME:GMT
DTSTART:20221030T010000
END:STANDARD
BEGIN:DAYLIGHT
TZOFFSETFROM:+0000
TZOFFSETTO:+0100
TZNAME:BST
DTSTART:20230326T010000
END:DAYLIGHT
BEGIN:STANDARD
TZOFFSETFROM:+0100
TZOFFSETTO:+0000
TZNAME:GMT
DTSTART:20231029T010000
END:STANDARD
BEGIN:DAYLIGHT
TZOFFSETFROM:+0000
TZOFFSETTO:+0100
TZNAME:BST
DTSTART:20240331T010000
END:DAYLIGHT
BEGIN:STANDARD
TZOFFSETFROM:+0100
TZOFFSETTO:+0000
TZNAME:GMT
DTSTART:20241027T010000
END:STANDARD
END:VTIMEZONE
BEGIN:VEVENT
DTSTART;TZID=Europe/London:20231017T130000
DTEND;TZID=Europe/London:20231017T163000
DTSTAMP:20260422T055252
CREATED:20230802T135105Z
LAST-MODIFIED:20230921T143112Z
UID:3424-1697547600-1697560200@www.smmr.org.uk
SUMMARY:SMMR Training (2 half days): Skills for Collaborative Interdisciplinary Research Training
DESCRIPTION:Join the SMMR-Network for a 2 half day online Training on Skills for Collaborative Interdisciplinary Research\, run by Dr Frank Siedlok (Heriot-Watt University): \n17th and 18th of October 2023\,  \neach day from 1 – 4:30pm \nThe course will cover 4 main sections: Disciplines and interdisciplinarity | Understanding drivers of\, and barriers to\, IDR | IDR practices and skills (part 1) | IDR practices and skills (part 2) and conclusion\n \nRegistration: The SMMR Network is pleased to be able to provide this Training to the community at a reduced cost of £15 per person for both days (original cost per person for this Training £50). \nFor more information on the covered topics of this course and to purchase a ticket for this Training: \nPlease Click Here! \n 
URL:https://www.smmr.org.uk/event/smmr-net-training/
END:VEVENT
BEGIN:VEVENT
DTSTART;TZID=Europe/London:20231018T130000
DTEND;TZID=Europe/London:20231018T163000
DTSTAMP:20260422T055252
CREATED:20230802T135241Z
LAST-MODIFIED:20230927T145823Z
UID:3426-1697634000-1697646600@www.smmr.org.uk
SUMMARY:SMMR Training (2 half days): Skills for Collaborative Interdisciplinary Research Training
DESCRIPTION:Join the SMMR-Network for a 2 half day online Training on Skills for Collaborative Interdisciplinary Research\, run by Dr Frank Siedlok (Heriot-Watt University): \n17th and 18th of October 2023\,  \neach day from 1 – 4:30pm \nThe course will cover 4 main sections: Disciplines and interdisciplinarity | Understanding drivers of\, and barriers to\, IDR | IDR practices and skills (part 1) | IDR practices and skills (part 2) and conclusion\n \nRegistration: The SMMR Network is pleased to be able to provide this Training to the community at a reduced cost of £15 per person for both days (original cost per person for this Training £50). \nFor more information on the covered topics of this course and to purchase a ticket for this Training: \nPlease Click Here! \n 
URL:https://www.smmr.org.uk/event/smmr-net-training-2/
END:VEVENT
BEGIN:VEVENT
DTSTART;TZID=Europe/London:20231031T130000
DTEND;TZID=Europe/London:20231031T140000
DTSTAMP:20260422T055252
CREATED:20231004T152142Z
LAST-MODIFIED:20231106T111604Z
UID:3495-1698757200-1698760800@www.smmr.org.uk
SUMMARY:Ocean Partnerships Speed Networking "Pace Paradox in a Fast-Moving World"
DESCRIPTION:Join the Ocean Partnerships Network for another online Speed Networking event over lunchtime! After a 10 minute introduction to this month’s theme\, the Speed Networking begins and you will be paired up with different people for 7 minutes at a time over the course of the hour. A fantastic way to meet people outside your usual network!\nOur aim is to connect people and foster collaborations. Ocean Partnerships recognises the need for practitioners from different disciplines to interact\, exchange experiences and ideas. Based on key marine related themes\, our events are designed to provide opportunities for people from the sciences\, arts\, policy\, private and public sectors to discuss topics of interest\, network and just have fun! \nThis month’s theme has been chosen by Dr Mark James\, MASTS Operations Director at the University of St Andrews: \n \nPace Paradox in a Fast-Moving World\n \nIn our rapidly evolving world\, we experience a mismatch between the speed of global and environmental change\, technological advances and decision making processes. Many factors contribute to this imbalance which hinders the progress of positive initiatives\, causing a delay in their implementation. As new realities unfurl around us at an unprecendented rate\, our responses appear to lag behind. \nJoin us as we explore the challenges posed by this pace paradox in a fast-moving world and the potential solutions to bridge the gap between intention and implementation. \n\n  \n \nNot yet subscribed to the Ocean Partnerships Newsletter? Stay up to date regarding all upcoming Speed Networking events\, Trainings and Webinars! \nTo the Newsletter! \n 
URL:https://www.smmr.org.uk/event/ocean-partnerships-speed-networking-pace-paradox-in-a-fast-moving-world/
END:VEVENT
END:VCALENDAR