BEGIN:VCALENDAR
VERSION:2.0
PRODID:-//Sustainable Management of Marine Resources - ECPv6.15.20//NONSGML v1.0//EN
CALSCALE:GREGORIAN
METHOD:PUBLISH
X-WR-CALNAME:Sustainable Management of Marine Resources
X-ORIGINAL-URL:https://www.smmr.org.uk
X-WR-CALDESC:Events for Sustainable Management of Marine Resources
REFRESH-INTERVAL;VALUE=DURATION:PT1H
X-Robots-Tag:noindex
X-PUBLISHED-TTL:PT1H
BEGIN:VTIMEZONE
TZID:Europe/London
BEGIN:DAYLIGHT
TZOFFSETFROM:+0000
TZOFFSETTO:+0100
TZNAME:BST
DTSTART:20220327T010000
END:DAYLIGHT
BEGIN:STANDARD
TZOFFSETFROM:+0100
TZOFFSETTO:+0000
TZNAME:GMT
DTSTART:20221030T010000
END:STANDARD
BEGIN:DAYLIGHT
TZOFFSETFROM:+0000
TZOFFSETTO:+0100
TZNAME:BST
DTSTART:20230326T010000
END:DAYLIGHT
BEGIN:STANDARD
TZOFFSETFROM:+0100
TZOFFSETTO:+0000
TZNAME:GMT
DTSTART:20231029T010000
END:STANDARD
BEGIN:DAYLIGHT
TZOFFSETFROM:+0000
TZOFFSETTO:+0100
TZNAME:BST
DTSTART:20240331T010000
END:DAYLIGHT
BEGIN:STANDARD
TZOFFSETFROM:+0100
TZOFFSETTO:+0000
TZNAME:GMT
DTSTART:20241027T010000
END:STANDARD
END:VTIMEZONE
BEGIN:VEVENT
DTSTART;TZID=Europe/London:20230606T130000
DTEND;TZID=Europe/London:20230607T163000
DTSTAMP:20260422T115510
CREATED:20230201T155828Z
LAST-MODIFIED:20230918T131424Z
UID:2918-1686056400-1686155400@www.smmr.org.uk
SUMMARY:Skills for Collaborative Inter-Disciplinary Research Training
DESCRIPTION:Back by popular demand – this is the third time the Sustainable Management of Marine Resources-Net are hosting this training. Dr Frank Siedlok (Heriot-Watt University) will run two half days of online training from 13:00 – 16:30pm on 6th and 7th of June 2023. This will be online via Microsoft Teams. \nThe course will cover 4 main sections:\n \nDisciplines and interdisciplinarity:\nExploring what we understand by a discipline and being aware of how disciplinary communities function is an essential starting point. It helps us understand (i) the nature of our own expertise that can be of use in collaborative projects and (ii) how and why our terminologies and processes might be unfamiliar to other collaborators from other disciplines. \nUnderstanding drivers of\, and barriers to\, IDR\nIDR is more difficult than disciplinary research. In this part of the workshop we explore why that is the case and why\, nevertheless\, there are good reasons for engaging with this kind of work. Participants will be able to consider how IDR lines up with their own motivations and interests\, as well as beginning to think about how to overcome barriers. \nIDR practices and skills (part 1)\nThe primary assets collaborators bring to IDR are their disciplinary expertise and enthusiasm. But building IDR projects and communities from scratch requires thoughtful leadership. In this part of the workshop we look at the practices that help researchers grow and maintain IDR projects and build a collaborative community. \nIDR practices and skills (part 2) and conclusion\nIn this final part of the workshop\, the focus is on how researchers can begin to translate the practices and skills into their own contexts.  In this way\, the workshop group can begin to operate as a ‘community of (IDR) practice’ or problem-solving network of contacts for mutual support as new projects are explored in the future.
URL:https://www.smmr.org.uk/event/skills-for-collaborative-inter-disciplinary-research-training/
END:VEVENT
BEGIN:VEVENT
DTSTART;TZID=Europe/London:20230627T130000
DTEND;TZID=Europe/London:20230627T160000
DTSTAMP:20260422T115510
CREATED:20230510T143836Z
LAST-MODIFIED:20230614T105504Z
UID:3257-1687870800-1687881600@www.smmr.org.uk
SUMMARY:SMMR-Net Training: Grant Writing with Dr Kate Smith
DESCRIPTION:Due to high demand this course is now fully booked – please feel free to have a look at our other Trainings and Webinars! \nThe SMMR-Net are excited to host Dr Kate Smith for this FREE half day training on Grant Writing for Researchers! \n‘Grant Writing’ with Dr Kate Smith covers all you need to know to write successful grant applications speedily and effectively. Offering lots of do’s and don’ts and practical tips and techniques from lived experience\, the session includes research councils and other grant-awarding bodies including philanthropic foundations\, Fellowship applications\, and collaborative applications. Exemplars from the pack are reviewed and discussion about narrative structure\, financial narratives and recommendations for outputs and dissemination are set out. Includes Q&A and direct advice on applications. \nDr Smith has had successful applications to Yale for a Fellowship and won a global competitive Fellowship competition to Harvard in 2013.\n​\nThe Training will cover the following topics: \n\nIntroducing Grant Writing as a key researcher development skill. Developing a Grant Writing strategy.\nDemonstrating the RCUK applications process (J-es etc).\nSetting out non-RCUK grant-awarding bodies.\nInternational applications including Fellowships.\nWhat does a winning grant application contain (exemplars)?\nWhat does an unsuccessful grant application look like (exemplars)?\nThe financials (Full economic funding\, research assistants\, contingencies etc).\nPutting it all together: the narrative\, the financials and the proposed outputs.\nSuccess! Responsibilities of a PI\, budget codes\, end of grant reports.\nNext steps.\nQ&A and individual advice.\n\n 
URL:https://www.smmr.org.uk/event/grant-writing-with-dr-kate-smith/
END:VEVENT
END:VCALENDAR