BEGIN:VCALENDAR
VERSION:2.0
PRODID:-//Sustainable Management of Marine Resources - ECPv6.15.20//NONSGML v1.0//EN
CALSCALE:GREGORIAN
METHOD:PUBLISH
X-WR-CALNAME:Sustainable Management of Marine Resources
X-ORIGINAL-URL:https://www.smmr.org.uk
X-WR-CALDESC:Events for Sustainable Management of Marine Resources
REFRESH-INTERVAL;VALUE=DURATION:PT1H
X-Robots-Tag:noindex
X-PUBLISHED-TTL:PT1H
BEGIN:VTIMEZONE
TZID:Europe/London
BEGIN:DAYLIGHT
TZOFFSETFROM:+0000
TZOFFSETTO:+0100
TZNAME:BST
DTSTART:20210328T010000
END:DAYLIGHT
BEGIN:STANDARD
TZOFFSETFROM:+0100
TZOFFSETTO:+0000
TZNAME:GMT
DTSTART:20211031T010000
END:STANDARD
BEGIN:DAYLIGHT
TZOFFSETFROM:+0000
TZOFFSETTO:+0100
TZNAME:BST
DTSTART:20220327T010000
END:DAYLIGHT
BEGIN:STANDARD
TZOFFSETFROM:+0100
TZOFFSETTO:+0000
TZNAME:GMT
DTSTART:20221030T010000
END:STANDARD
BEGIN:DAYLIGHT
TZOFFSETFROM:+0000
TZOFFSETTO:+0100
TZNAME:BST
DTSTART:20230326T010000
END:DAYLIGHT
BEGIN:STANDARD
TZOFFSETFROM:+0100
TZOFFSETTO:+0000
TZNAME:GMT
DTSTART:20231029T010000
END:STANDARD
END:VTIMEZONE
BEGIN:VEVENT
DTSTART;TZID=Europe/London:20220628T170000
DTEND;TZID=Europe/London:20220628T183000
DTSTAMP:20260422T002648
CREATED:20220525T143151Z
LAST-MODIFIED:20220525T143151Z
UID:1233-1656435600-1656441000@www.smmr.org.uk
SUMMARY:Evidence Intermediary Organisations: How can they better connect research\, policy and practice?
DESCRIPTION:Transforming Evidence for policy and Practice are running a series of three webinars around Evidence Intermediary Organisations: How can they better connect research\, policy and practice? \n7th June (5pm – 6.30pm) – How can evidence intermediary bodies work in a wider system? \n21st June (5pm – 6.30pm) – Should intermediary organisations be involved in advocacy? \n28th June (5pm – 6.30pm) –  What would better look like? \nFor more information and to sign up follow this link Evidence Intermediary Organisations: How can they better connect research\, policy and practice? (transforming-evidence.org)
URL:https://www.smmr.org.uk/event/evidence-intermediary-organisations-how-can-they-better-connect-research-policy-and-practice-3/
LOCATION:Online
END:VEVENT
BEGIN:VEVENT
DTSTART;TZID=Europe/London:20220621T170000
DTEND;TZID=Europe/London:20220621T183000
DTSTAMP:20260422T002648
CREATED:20220525T143046Z
LAST-MODIFIED:20220525T143046Z
UID:1230-1655830800-1655836200@www.smmr.org.uk
SUMMARY:Evidence Intermediary Organisations: How can they better connect research\, policy and practice?
DESCRIPTION:Transforming Evidence for policy and Practice are running a series of three webinars around Evidence Intermediary Organisations: How can they better connect research\, policy and practice? \n7th June (5pm – 6.30pm) – How can evidence intermediary bodies work in a wider system? \n21st June (5pm – 6.30pm) – Should intermediary organisations be involved in advocacy? \n28th June (5pm – 6.30pm) –  What would better look like? \nFor more information and to sign up follow this link Evidence Intermediary Organisations: How can they better connect research\, policy and practice? (transforming-evidence.org)
URL:https://www.smmr.org.uk/event/evidence-intermediary-organisations-how-can-they-better-connect-research-policy-and-practice-2/
LOCATION:Online
END:VEVENT
BEGIN:VEVENT
DTSTART;TZID=Europe/London:20220607T170000
DTEND;TZID=Europe/London:20220607T183000
DTSTAMP:20260422T002648
CREATED:20220525T142921Z
LAST-MODIFIED:20220525T142921Z
UID:1226-1654621200-1654626600@www.smmr.org.uk
SUMMARY:Evidence Intermediary Organisations: How can they better connect research\, policy and practice?
DESCRIPTION:Transforming Evidence for policy and Practice are running a series of three webinars around Evidence Intermediary Organisations: How can they better connect research\, policy and practice? \n7th June (5pm – 6.30pm) – How can evidence intermediary bodies work in a wider system? \n21st June (5pm – 6.30pm) – Should intermediary organisations be involved in advocacy? \n28th June (5pm – 6.30pm) –  What would better look like? \nFor more information and to sign up follow this link Evidence Intermediary Organisations: How can they better connect research\, policy and practice? (transforming-evidence.org)
URL:https://www.smmr.org.uk/event/evidence-intermediary-organisations-how-can-they-better-connect-research-policy-and-practice/
LOCATION:Online
END:VEVENT
BEGIN:VEVENT
DTSTART;TZID=Europe/London:20220607T103000
DTEND;TZID=Europe/London:20220607T153000
DTSTAMP:20260422T002648
CREATED:20220525T132345Z
LAST-MODIFIED:20220525T132456Z
UID:1220-1654597800-1654615800@www.smmr.org.uk
SUMMARY:ROCC WP1 Stakeholder Workshop (INVITE ONLY)
DESCRIPTION:Important to note this event is INVITE ONLY \n\nROCC\, ‘Resilience of Coastal Communities’\, is a collaborative project led by the University of Exeter and funded by SMMR\, which seeks to explore the interplay between resilience\, wellbeing\, and environmental sustainability in coastal communities in Southwest England. \nIndustries and individuals who rely on marine resources make up the social and economic fabric of coastal communities\, but increasingly face diverse threats — from climate change to political and regulatory change and crises. ROCC will develop a ‘nexus approach’ to consider the close relationships between human resilience\, wellbeing and environmental sustainability\, and to explore ways for solutions targeting one of these goals to also explicitly consider the other two. \nThis workshop will bring together key stakeholders involved in working towards these goals in the region to share experiences and help us identify how our research can support the challenges faced in addressing each of the nexus goals. The workshop aims to stimulate discussion about the value and application of this approach\, and stakeholder perspectives will inform the direction of the project and ensure that our research reflects relevant local priorities.
URL:https://www.smmr.org.uk/event/rocc-wp1-stakeholder-workshop-invite-only/
LOCATION:Plymouth University
ORGANIZER;CN="ROCC project":MAILTO:C.L.Szostek@exeter.ac.uk
END:VEVENT
BEGIN:VEVENT
DTSTART;TZID=Europe/London:20220606T140000
DTEND;TZID=Europe/London:20220606T160000
DTSTAMP:20260422T002648
CREATED:20220526T095252Z
LAST-MODIFIED:20220526T095302Z
UID:1246-1654524000-1654531200@www.smmr.org.uk
SUMMARY:One Ocean Hub Roundtable: Small-scale Fishers’ Human Rights
DESCRIPTION:Exploring Challenges\, Opportunities and Alliances for the Protection of Small-scale Fishers’ Human Rights\n\n\nREGISTER HERE\n\nThis two-hour roundtable is organised by the One Ocean Hub with the support and technical assistance of the Food and Agriculture Organization of the United Nations (FAO). The event will explore the need for a comprehensive understanding of the human rights of small-scale fishers and how different mandates across the United Nations System can contribute to enhancing the protection of the human rights of small-scale fishers\, fisherworkers\, and their communities. \nThis event will feature a video message from the UN High Commissioner for Human Rights and it will bring together the UN Special Rapporteur on Human Rights and the Environment\, small-scale fishers\, a national human rights institution\, as well as researchers to share views on key challenges for the protection of small-scale fishers’ human rights. This roundtable discussion is aimed to advance awareness of the need for a holistic approach to the protection of the human rights of small-scale fishers and fish workers\, and to explore the different UN mandates that can contribute opportunities for better international support for small-scale fishers representatives and advocates. \nThe key messages identified during the roundtable discussion will be shared with the UN Office of the High Commissioner for Human Rights\, other partners and international for a for further dialogue and action as part of the International Year of Artisanal Fisheries and Aquaculture. \nPanellists \n• Elisa Morgera\, Director\, One Ocean Hub\n• Nicole Franz\, Fishery Planning Officer\, FAO\n• David Boyd\, UN Special Rapporteur on Human Rights and the Environment\n• Sisay Yeshanew\, Development Law Specialist\, FAO\n• Eastern Cape traditional small-scale fisher\, South Africa\n• Jones Thomas Spartagus and Md. Mujibul Haque Munir\, International Planning Committee for Food Sovereignty\n• Sebastian Mathew\, International Collective in Support of Fishworkers\,\n• Sille Stidsen\, the Danish Institute for Human Rights\n• Dr Bolanle Erinosho\, University of Cape Coast\, Ghana\n• Dr Tapiwa Warikandwa\, University of Namibia\, Namibia
URL:https://www.smmr.org.uk/event/one-ocean-hub-roundtable-small-scale-fishers-human-rights/
END:VEVENT
BEGIN:VEVENT
DTSTART;TZID=Europe/London:20220518T130000
DTEND;TZID=Europe/London:20220518T140000
DTSTAMP:20260422T002648
CREATED:20220506T113231Z
LAST-MODIFIED:20220506T113231Z
UID:1210-1652878800-1652882400@www.smmr.org.uk
SUMMARY:SMMR Webinar
DESCRIPTION:Sign Up HERE \nJoin us for our next SMMR webinar\, where we will hear from Dr Chis Leakey and Professor Abigail McQuatters-Gollop\, followed by a Q and A session. \nDr Chris Leakey (MASTS and the People Ocean Planet iniative) \nDive-In\, an interdisciplinary museum exhibition for public engagement in marine science and climate action.  \nChris Leakey from MASTS and their People Ocean Planet initiative will talk about a recent collaboration between a museum\, designers\, climate communication specialists and marine scientists\, developing and testing an exhibition of marine science that aimed to stimulate behavioural change in audiences. \nProfessor Abigail McQuatters-Gollop (University of Plymouth) \nFrom science to policy: Connecting research and data to decision making \nBiodiversity data and research are essential for informing management and policy\, particularly in supporting the new generation of marine legislative drivers\, which take a holistic ecosystem approach to management. In Europe\, for example\, the Marine Strategy Framework Directive (MSFD) seeks to achieve Good Environmental Status (GES) of European seas\, while at the global scale UN Sustainable Development Goal SDG14 strives to “Conserve and sustainably use the oceans\, seas and marine resources for sustainable development”. These instruments recognise the importance of biodiversity and marine ecosystems\, but appropriate biodiversity data and research needed to support their implementation\, assessment\, and reporting. Communicating biodiversity data and science into policy requires multiple approaches from formal engagement to casual communication over social media. From project conception through to policy assessment\, innovative and active engagement methods should be used to gain policy feedback\, help frame the science in policy terms\, and gather consensus from the wider scientific research community. Open communication and trust between scientists and decision-makers is instrumental to successfully using biodiversity science to fulfil policy needs. \n 
URL:https://www.smmr.org.uk/event/smmr-webinar/
END:VEVENT
BEGIN:VEVENT
DTSTART;VALUE=DATE:20220509
DTEND;VALUE=DATE:20220512
DTSTAMP:20260422T002648
CREATED:20220120T085641Z
LAST-MODIFIED:20220120T085818Z
UID:954-1652054400-1652313599@www.smmr.org.uk
SUMMARY:SMMR Annual Conference 2022
DESCRIPTION:The Sustainable Management of UK Marine Resources (SMMR) first Annual Conference will be held as a hybrid event from 9th – 11th May 2022.  \nThis transdisciplinary conference brings together members of the UK marine science community\, with the aim of promoting and communicating research and policy excellence.  \nThe first two days will bring together expert plenary speakers and contributed talks and e-posters outlining the latest research and management practices that address key topics related to the sustainable management of UK marine resources. The third day will be devoted to workshops and more details will be available on these soon. \nYou will also be able to enjoy networking with your peers and making new contacts across the UK marine science research and practitioner community. If you are attending\, we hope you will join us for the conference dinner taking place on the evening of the 9th May.
URL:https://www.smmr.org.uk/event/smmr-annual-conference-2022/
LOCATION:Mercure Hotel Bristol\, Bristol
END:VEVENT
BEGIN:VEVENT
DTSTART;TZID=Europe/London:20220331T140000
DTEND;TZID=Europe/London:20220331T160000
DTSTAMP:20260422T002648
CREATED:20220323T122447Z
LAST-MODIFIED:20220323T125009Z
UID:1000-1648735200-1648742400@www.smmr.org.uk
SUMMARY:Exploring Narratives in Environmental Challenges Workshop
DESCRIPTION:Register here – https://www.york.ac.uk/yesi/events/2022/exploring-narratives-in-enviro-challenges-workshop/ \nUsing SMMR Funded Project ‘Pyramids of Life’ as a case study\, this workshop will explore the opportunities and limitations of narratives in the area of environmental challenges. \nNarratives can be extremely powerful. We often use narratives (sometimes in the form of stories) in the area of environmental challenges to help us to understand and communicate problems\, develop solutions\, and map possible future scenarios. However\, ensuring that these narratives adequately capture complex reality is difficult. \nThis hybrid (in-person and online) workshop follows the webinar on Friday 11th March (watch webinar) and is targeted broadly at those working on environmental challenges\, but with all disciplines being welcome. In this workshop\, we build on and explore ideas introduced in the webinar\, using case studies to demonstrate an approach from literary studies to help us to incorporate critical awareness of the limitations of narratives into our communicative strategies. \nThis project includes Prof. Richard Walsh (English and Related Literature)\, Prof. Lindsay Stringer (Environment and Geography) and Prof. Jon Pitchford (Mathematics and Biology) and is part of the NERC Discipline Hopping for Environmental Solutions programme. \nWhen you register for the event you can select either the in-person or online ticket type. \nPlease email Annabel Jenkins (annabel.jenkins@york.ac.uk) with any queries.
URL:https://www.smmr.org.uk/event/exploring-narratives-in-environmental-challenges-workshop/
LOCATION:In-person and Online
END:VEVENT
BEGIN:VEVENT
DTSTART;TZID=Europe/London:20220324T120000
DTEND;TZID=Europe/London:20220324T130000
DTSTAMP:20260422T002648
CREATED:20220323T121729Z
LAST-MODIFIED:20220323T121729Z
UID:998-1648123200-1648126800@www.smmr.org.uk
SUMMARY:Equality\, Diversity and Inclusivity Series: Session 4 – Youth Voices
DESCRIPTION:Register here – https://cardiff.zoom.us/webinar/register/WN_tgpPRs40SJWKRS8yY6qfGw \nIn collaboration with the Marine Social Science Network (MarSocSci) and Sustainable Management of Marine Resources (SMMR)\, the MSCC Social Science Task group are planning a series of seminars on EDI (Equality\, Diversity and Equality) and the marine environment. This is to promote understanding of the relationship between EDI and the marine environment and how these influence engagements with marine and coastal spaces. The seminars will provide an opportunity to learn from and engage with other experts\, including accomplished researchers and practitioners\, and share best practice and establish evidence gaps. \nOur first speakers will be from the Marine Conservation Society\, who will be speaking about some of their work engaging with different youth communities across the UK\, including their Wild Coast Sussex project. \nOur second speaker is Mhairi McCann. Mhairi is Youth STEM 2030’s Founder & CEO and has a strong belief in the positive difference young people can make to our world through STEM. Mhairi is a National Geographic Young Explorer\, the first in Scotland\, and over the past 5 years she has driven more meaningful youth involvement across several organisations nationally and internationally. For her work with Youth STEM 2030\, Mhairi was named as one of the UK’s Top 50 Women in Sustainability in 2020\, and in the NAAEE’s global 30 Under 30 for Environmental Education in 2021. Mhairi’s experience in the SDGs resulted in her being elected to the Steering Group of SDG Network Scotland and presenting a series of educational videos about the SDGs for BBC Bitesize. She currently represents Scotland as a member of the World Ocean Day Youth Advisory Council\, and took over 53\,000 pieces of plastic out the river Clyde in 104 weekly beach cleans each Saturday of 2020 & 2021. Mhairi is keen to connect and work with organisations who want to meaningfully embed young people’s voices into their decision-making.
URL:https://www.smmr.org.uk/event/equality-diversity-and-inclusivity-series-session-4-youth-voices/
LOCATION:Online
END:VEVENT
BEGIN:VEVENT
DTSTART;TZID=Europe/London:20220321T090000
DTEND;TZID=Europe/London:20220325T170000
DTSTAMP:20260422T002648
CREATED:20220323T163201Z
LAST-MODIFIED:20220323T163208Z
UID:1014-1647853200-1648227600@www.smmr.org.uk
SUMMARY:Evidence Week\, Holyrood 2022
DESCRIPTION:Sense about Science has partnered with SPICe (The Scottish Parliament Information Centre)\, and our lead partners RDS Scotland and ADR Scotland\, to deliver Evidence Week in Holyrood. For the first time\, MSPs will join researchers\, and constituents to discuss how the evidence used to make policy decisions in Scotland is scrutinised. \nThe Opening Event will see people from across Scotland put their questions directly to a panel of influential policymakers and their own MSP\, about the evidence used to decide policy issues that matter to them. \nDuring the week\, MSPs will be briefed by on cutting-edge research about pressing policy issues in Scotland\, and have the opportunity to discuss evidence with world-leading researchers. \nThe unique format of Evidence Week has been successful in parliaments in the EU\, UK\, and Ireland\, and is coming to the Scottish Parliament at the requests of Scottish voters and people within Holyrood. \n \n  \n 
URL:https://www.smmr.org.uk/event/evidence-week-holyrood-2022/
LOCATION:Holyrood\, Scottish Parliament Building\, Edinburgh\, Scotland\, EH99 1SP.\, United Kingdom
ORGANIZER;CN="Sense about Science":MAILTO:hello@senseaboutscience.org
END:VEVENT
BEGIN:VEVENT
DTSTART;TZID=Europe/London:20220217T123000
DTEND;TZID=Europe/London:20220217T133000
DTSTAMP:20260422T002648
CREATED:20220209T154001Z
LAST-MODIFIED:20220209T154616Z
UID:970-1645101000-1645104600@www.smmr.org.uk
SUMMARY:Equality\, Diversity and Inclusivity Series: Session 3 - Gender
DESCRIPTION:In collaboration with the Marine Social Science Network (MarSocSci) and Sustainable Management of Marine Resources (SMMR)\, the MSCC Social Science Task group are planning a series of seminars on EDI (Equality\, Diversity and Equality) and the marine environment. This is to promote understanding of the relationship between EDI and the marine environment and how these influence engagements with marine and coastal spaces. The seminars will provide an opportunity to learn from and engage with other experts\, including accomplished researchers and practitioners\, and share best practice and establish evidence gaps. \nRegister here: https://cardiff.zoom.us/webinar/register/WN_PIT05dkeQ–wZdlVkeXr_w \nOur first speaker is Dr Madeleine Gustavsson\, a researcher at Ruralis in Norway\, and has a background in researching women in fisheries. Her research interests also includes exploring gender relations and identities\, and the changing of roles and wellbeing of women in fishing families: https://ruralis.no/en/employees/madeleine-gustavsson/ \nOur second speaker will be Katja Hrzic\, a PhD student at the University of Glasgow and is currently undertaking a research synthesis on women in fisheries for Marine Scotland. Katja’s interests include international labour migrations in fisheries\, of which she is studying as part of her PhD: https://www.gla.ac.uk/schools/ges/community/meetourstudents/katjahrzic/
URL:https://www.smmr.org.uk/event/equality-diversity-and-inclusivity-series-session-3-gender/
LOCATION:Online
END:VEVENT
BEGIN:VEVENT
DTSTART;TZID=Europe/London:20220210T130000
DTEND;TZID=Europe/London:20220210T163000
DTSTAMP:20260422T002648
CREATED:20220112T181022Z
LAST-MODIFIED:20220112T181237Z
UID:922-1644498000-1644510600@www.smmr.org.uk
SUMMARY:SMMR Training: Skills for Inter-Disciplinary Research (Part 2)
DESCRIPTION:PLEASE NOTE THIS COURSE IS NOW FULL.  \nThe Sustainable Management of Marine Resources-Net are hosting Professor Paul Hibbert who will run two half days of online training from 13:00 – 16:00pm on 9th February and 13:00 – 16:30pm on February 10th 2021. \nThe course will cover 4 main sections: \nDisciplines and interdisciplinarity:\nExploring what we understand by a discipline and being aware of how disciplinary communities function is an essential starting point. It helps us understand (i) the nature of our own expertise that can be of use in collaborative projects and (ii) how and why our terminologies and processes might be unfamiliar to other collaborators from other disciplines. \nUnderstanding drivers of\, and barriers to\, IDR\nIDR is more difficult than disciplinary research. In this part of the workshop we explore why that is the case and why\, nevertheless\, there are good reasons for engaging with this kind of work. Participants will be able to consider how IDR lines up with their own motivations and interests\, as well as beginning to think about how to overcome barriers. \nIDR practices and skills (part 1)\nThe primary assets collaborators bring to IDR are their disciplinary expertise and enthusiasm. But building IDR projects and communities from scratch requires thoughtful leadership. In this part of the workshop we look at the practices that help researchers grow and maintain IDR projects and build a collaborative community. \nIDR practices and skills (part 2) and conclusion\nIn this final part of the workshop\, the focus is on how researchers can begin to translate the practices and skills into their own contexts.  In this way\, the workshop group can begin to operate as a ‘community of (IDR) practice’ or problem-solving network of contacts for mutual support as new projects are explored in the future.\n\nThere are 36 places on this course and if over subscribed places will be allocated to ensure a mix of career stages and disciplines are given places on this course. But within the different categories of disciplines and career stages people will be based on a first come first serve basis. \nThere is no cost to attend this course and if you are offered a place you will be contacted no later than February 1st with attendance details. Please register at https://forms.office.com/Pages/ResponsePage.aspx?id=yyZW-KgN00mqWGTvZ47wGpA9olt-CVFJiQ5iwXPE5nFUQ0pESEFCWTFHTUVNUFZENjc5NEJBUTVRRC4u \nBy filling in your details you are agreeing to SMMR retaining your details to be able to contact you about this training event. For any questions about the training please contact: em358@st-andrews.ac.uk
URL:https://www.smmr.org.uk/event/smmr-training-skills-for-inter-disciplinary-research-part-2/
LOCATION:Online
END:VEVENT
BEGIN:VEVENT
DTSTART;TZID=Europe/London:20220209T130000
DTEND;TZID=Europe/London:20220209T160000
DTSTAMP:20260422T002648
CREATED:20220112T180540Z
LAST-MODIFIED:20220112T181223Z
UID:916-1644411600-1644422400@www.smmr.org.uk
SUMMARY:SMMR Training: Skills for Inter-Disciplinary Research (Part 1)
DESCRIPTION:PLEASE NOTE THIS COURSE IS NOW FULL. \nThe Sustainable Management of Marine Resources-Net are hosting Professor Paul Hibbert who will run two half days of online training from 13:00 – 16:00pm on 9th February and 13:00 – 16:30pm on February 10th 2021. \nThe course will cover 4 main sections: \nDisciplines and interdisciplinarity:\nExploring what we understand by a discipline and being aware of how disciplinary communities function is an essential starting point. It helps us understand (i) the nature of our own expertise that can be of use in collaborative projects and (ii) how and why our terminologies and processes might be unfamiliar to other collaborators from other disciplines. \nUnderstanding drivers of\, and barriers to\, IDR\nIDR is more difficult than disciplinary research. In this part of the workshop we explore why that is the case and why\, nevertheless\, there are good reasons for engaging with this kind of work. Participants will be able to consider how IDR lines up with their own motivations and interests\, as well as beginning to think about how to overcome barriers. \nIDR practices and skills (part 1)\nThe primary assets collaborators bring to IDR are their disciplinary expertise and enthusiasm. But building IDR projects and communities from scratch requires thoughtful leadership. In this part of the workshop we look at the practices that help researchers grow and maintain IDR projects and build a collaborative community. \nIDR practices and skills (part 2) and conclusion\nIn this final part of the workshop\, the focus is on how researchers can begin to translate the practices and skills into their own contexts.  In this way\, the workshop group can begin to operate as a ‘community of (IDR) practice’ or problem-solving network of contacts for mutual support as new projects are explored in the future. \nThere are 36 places on this course and if over subscribed places will be allocated to ensure a mix of career stages and disciplines are given places on this course. But within the different categories of disciplines and career stages people will be based on a first come first serve basis. \nThere is no cost to attend this course and if you are offered a place you will be contacted no later than February 1st with attendance details. \nPlease register at https://forms.office.com/Pages/ResponsePage.aspx?id=yyZW-KgN00mqWGTvZ47wGpA9olt-CVFJiQ5iwXPE5nFUQ0pESEFCWTFHTUVNUFZENjc5NEJBUTVRRC4u \nBy filling in your details you are agreeing to SMMR retaining your details to be able to contact you about this training event. For any questions about the training please contact: em358@st-andrews.ac.uk
URL:https://www.smmr.org.uk/event/smmr-training-skills-for-inter-disciplinary-research-part-1/
LOCATION:Online
END:VEVENT
BEGIN:VEVENT
DTSTART;TZID=Europe/London:20220203T200000
DTEND;TZID=Europe/London:20220203T213000
DTSTAMP:20260422T002648
CREATED:20220113T084716Z
LAST-MODIFIED:20220113T084716Z
UID:935-1643918400-1643923800@www.smmr.org.uk
SUMMARY:Introduction to Conservation Social Science (Part 3)
DESCRIPTION:Conservation Social Science training for conservation professionals and researchers\, delivered by Dr Rebecca Jefferson at Human Nature. See here for full details. 
URL:https://www.smmr.org.uk/event/introduction-to-conservation-social-science-part-3/
LOCATION:Online
END:VEVENT
BEGIN:VEVENT
DTSTART;TZID=Europe/London:20220202T200000
DTEND;TZID=Europe/London:20220202T213000
DTSTAMP:20260422T002648
CREATED:20220113T084624Z
LAST-MODIFIED:20220113T084624Z
UID:933-1643832000-1643837400@www.smmr.org.uk
SUMMARY:Introduction to Conservation Social Science (Part 2)
DESCRIPTION:Conservation Social Science training for conservation professionals and researchers\, delivered by Dr Rebecca Jefferson at Human Nature. See here for full details. 
URL:https://www.smmr.org.uk/event/introduction-to-conservation-social-science-part-2/
LOCATION:Online
END:VEVENT
BEGIN:VEVENT
DTSTART;TZID=Europe/London:20220201T200000
DTEND;TZID=Europe/London:20220201T213000
DTSTAMP:20260422T002648
CREATED:20220112T181727Z
LAST-MODIFIED:20220113T084809Z
UID:927-1643745600-1643751000@www.smmr.org.uk
SUMMARY:Introduction to Conservation Social Science (Part 1)
DESCRIPTION:Conservation Social Science training for conservation professionals and researchers\, delivered by Dr Rebecca Jefferson at Human Nature. See here for full details. 
URL:https://www.smmr.org.uk/event/introduction-to-conservation-social-science/
LOCATION:Online
END:VEVENT
BEGIN:VEVENT
DTSTART;TZID=Europe/London:20220127T133000
DTEND;TZID=Europe/London:20220127T153000
DTSTAMP:20260422T002648
CREATED:20220117T173705Z
LAST-MODIFIED:20220117T173705Z
UID:940-1643290200-1643297400@www.smmr.org.uk
SUMMARY:Is fieldwork a requirement for a career in marine science? - Event
DESCRIPTION:Save the date for an introductory and perception gathering event run by a subset of the Challenger Society EDIA working group. The virtual event will focus on ‘Evaluating perceptions of job roles in marine research and raising awareness of digital twinning of the oceans to promote diversity and inclusivity in the marine sciences’.  \nRegister for the event at https://forms.office.com/pages/responsepage.aspx?id=ldsRs60yj0OhAXugYXEqTiCi4BLdaUBEn_2XnpiI_hxUN00zSDhQVUpROE1SQ0pTRDU3V1BUTk9UUC4u \nIf you have any questions please contact Anna.Mcgregor@glasgow.ac.uk
URL:https://www.smmr.org.uk/event/is-fieldwork-a-requirement-for-a-career-in-marine-science-event/
LOCATION:Online
END:VEVENT
END:VCALENDAR